BEGIN:VCALENDAR
VERSION:2.0
PRODID:-//hacksw/handcal//NONSGML v1.0//EN
BEGIN:VEVENT
UID:29e94b652426142bcf08c701e8c30997
DTSTAMP:20260423T142803Z

DTSTART:20160917T020000
DTEND:20160925T020000
SUMMARY:INTERBOOT Friedrichshafen 2016
DESCRIPTION:Interboot auf Wachstumskurs: \n\nMehr Ausstellungsfläche auf der Interboot - Neues Hallenkonzept zur 55. Auflage der Wassersportmesse am Bodensee\n\nFriedrichshafen - Die internationale Wassersport-Ausstellung erweitert für ihren 55. Törn im September 2016 die Angebotsfläche um eine Messehalle. Zu den bisher bespielten sieben Messehallen kommt 2016 eine weitere hinzu. Dadurch wird die bisherige Hallenaufteilung optimiert und angepasst: Die ersten drei Hallen der B-Achse werden neu belegt und ergeben gemeinsam mit den Hallen A1 (Rothaushalle) bis A5 einen Rundlauf. "Wir brauchen mehr Platz", betont Projektleiter Dirk Kreidenweiß: "Wir verzeichnen eine starke Nachfrage der Ausstellerschaft nach mehr Fläche und sind stolz, die Interboot um eine Halle zu erweitern. Wir nehmen den Schwung aus dem positiven Ergebnis des letzten Jahres mit und freuen uns, dass wir mit der Vergrößerung Platz schaffen für mehr Aussteller und ein noch tieferes Fach- und Erlebnisangebot." Frischen Wind bringt nicht nur die neue Hallenstruktur, auch das neue Erscheinungsbild der internationalen Wassersport-Ausstellung, die vom 17. bis 25. September stattfindet, lässt die Besucher Wassersport-Momente hautnah erleben.\n\nDie Interboot ist von Samstag, 17. bis Sonntag, 25. September 2016 täglich von 10 bis 18 Uhr geöffnet, der Interboot-Hafen täglich bis 19 Uhr. Die Interboot wird über den Eingang West an der Rothaushalle A1 zugänglich sein. Am ersten Wochenende findet parallel die Tauchmesse Interdive statt, die ausschließlich über den Eingang Ost zu erreichen ist. Zwischen Eingang Ost und West ist ein Shuttle-Bus-Verkehr eingerichtet.

X-ALT-DESC;FMTTYPE=text/html:<!DOCTYPE HTML PUBLIC "-//W3C//DTD HTML 3.2//EN">\n<HTML>\n<HEAD>\n<META NAME="Generator" CONTENT="MS Exchange Server version 08.00.0681.000">\n<TITLE></TITLE>\n</HEAD>\n<BODY>\n<!-- Converted from text/rtf format -->\n\nInterboot auf Wachstumskurs: <br /><br />Mehr Ausstellungsfläche auf der Interboot - Neues Hallenkonzept zur 55. Auflage der Wassersportmesse am Bodensee<br /><br />Friedrichshafen - Die internationale Wassersport-Ausstellung erweitert für ihren 55. Törn im September 2016 die Angebotsfläche um eine Messehalle. Zu den bisher bespielten sieben Messehallen kommt 2016 eine weitere hinzu. Dadurch wird die bisherige Hallenaufteilung optimiert und angepasst: Die ersten drei Hallen der B-Achse werden neu belegt und ergeben gemeinsam mit den Hallen A1 (Rothaushalle) bis A5 einen Rundlauf. "Wir brauchen mehr Platz", betont Projektleiter Dirk Kreidenweiß: "Wir verzeichnen eine starke Nachfrage der Ausstellerschaft nach mehr Fläche und sind stolz, die Interboot um eine Halle zu erweitern. Wir nehmen den Schwung aus dem positiven Ergebnis des letzten Jahres mit und freuen uns, dass wir mit der Vergrößerung Platz schaffen für mehr Aussteller und ein noch tieferes Fach- und Erlebnisangebot." Frischen Wind bringt nicht nur die neue Hallenstruktur, auch das neue Erscheinungsbild der internationalen Wassersport-Ausstellung, die vom 17. bis 25. September stattfindet, lässt die Besucher Wassersport-Momente hautnah erleben.<br /><br />Die Interboot ist von Samstag, 17. bis Sonntag, 25. September 2016 täglich von 10 bis 18 Uhr geöffnet, der Interboot-Hafen täglich bis 19 Uhr. Die Interboot wird über den Eingang West an der Rothaushalle A1 zugänglich sein. Am ersten Wochenende findet parallel die Tauchmesse Interdive statt, die ausschließlich über den Eingang Ost zu erreichen ist. Zwischen Eingang Ost und West ist ein Shuttle-Bus-Verkehr eingerichtet.\n\n</BODY>\n</HTML>

LOCATION:Neue Messe, Friedrichshafen, Deutschland
END:VEVENT

END:VCALENDAR
