BEGIN:VCALENDAR
VERSION:2.0
PRODID:-//hacksw/handcal//NONSGML v1.0//EN
BEGIN:VEVENT
UID:57b2f6209fe1790ed20a501f1aed5777
DTSTAMP:20260423T163746Z

DTSTART:20171001T000000
DTEND:20171031T235959
SUMMARY:Einlösen Rabattcode 55KK0911 bis Ende Oktober
DESCRIPTION:Wenn Sie ein Motorboot mit über 6kW Antriebsleistung, oder ein Segelboot mit mehr als 15 Quadratmeter auf Schweizer Gewässern führen möchten, brauchen Sie die Bootsprüfung Schweiz.\n\nSie können sich für die Prüfung zur Bootsprüfung der Schweiz unter www.bootspruefung24.ch vorbereiten!\n\nBis am 31. Oktober 2017 haben Sie noch Zeit, um Ihren Rabattcode 55KK0911 auf www.bootspruefung24.ch einzulösen! Mit dem Rabattcode 55KK0911 können Sie sich um 10 Franken günstiger für den Onlinekurs zur Bootsprüfung Schweiz registrieren!

X-ALT-DESC;FMTTYPE=text/html:<!DOCTYPE HTML PUBLIC "-//W3C//DTD HTML 3.2//EN">\n<HTML>\n<HEAD>\n<META NAME="Generator" CONTENT="MS Exchange Server version 08.00.0681.000">\n<TITLE></TITLE>\n</HEAD>\n<BODY>\n<!-- Converted from text/rtf format -->\n\nWenn Sie ein Motorboot mit über 6kW Antriebsleistung, oder ein Segelboot mit mehr als 15 Quadratmeter auf Schweizer Gewässern führen möchten, brauchen Sie die Bootsprüfung Schweiz.<br /><br />Sie können sich für die Prüfung zur Bootsprüfung der Schweiz unter www.bootspruefung24.ch vorbereiten!<br /><br />Bis am 31. Oktober 2017 haben Sie noch Zeit, um Ihren Rabattcode 55KK0911 auf www.bootspruefung24.ch einzulösen! Mit dem Rabattcode 55KK0911 können Sie sich um 10 Franken günstiger für den Onlinekurs zur Bootsprüfung Schweiz registrieren!\n\n</BODY>\n</HTML>

LOCATION:
END:VEVENT

END:VCALENDAR
